BEGIN:VCALENDAR
VERSION:2.0
PRODID:-//Rewa Rewa Station - ECPv6.15.18//NONSGML v1.0//EN
CALSCALE:GREGORIAN
METHOD:PUBLISH
X-WR-CALNAME:Rewa Rewa Station
X-ORIGINAL-URL:https://rewarewastation.co.nz
X-WR-CALDESC:Events for Rewa Rewa Station
REFRESH-INTERVAL;VALUE=DURATION:PT1H
X-Robots-Tag:noindex
X-PUBLISHED-TTL:PT1H
BEGIN:VTIMEZONE
TZID:Pacific/Auckland
BEGIN:STANDARD
TZOFFSETFROM:+1300
TZOFFSETTO:+1200
TZNAME:NZST
DTSTART:20190406T140000
END:STANDARD
BEGIN:DAYLIGHT
TZOFFSETFROM:+1200
TZOFFSETTO:+1300
TZNAME:NZDT
DTSTART:20190928T140000
END:DAYLIGHT
BEGIN:STANDARD
TZOFFSETFROM:+1300
TZOFFSETTO:+1200
TZNAME:NZST
DTSTART:20200404T140000
END:STANDARD
BEGIN:DAYLIGHT
TZOFFSETFROM:+1200
TZOFFSETTO:+1300
TZNAME:NZDT
DTSTART:20200926T140000
END:DAYLIGHT
BEGIN:STANDARD
TZOFFSETFROM:+1300
TZOFFSETTO:+1200
TZNAME:NZST
DTSTART:20210403T140000
END:STANDARD
BEGIN:DAYLIGHT
TZOFFSETFROM:+1200
TZOFFSETTO:+1300
TZNAME:NZDT
DTSTART:20210925T140000
END:DAYLIGHT
BEGIN:STANDARD
TZOFFSETFROM:+1300
TZOFFSETTO:+1200
TZNAME:NZST
DTSTART:20220402T140000
END:STANDARD
BEGIN:DAYLIGHT
TZOFFSETFROM:+1200
TZOFFSETTO:+1300
TZNAME:NZDT
DTSTART:20220924T140000
END:DAYLIGHT
END:VTIMEZONE
BEGIN:VEVENT
DTSTART;TZID=Pacific/Auckland:20210427T100000
DTEND;TZID=Pacific/Auckland:20210427T150000
DTSTAMP:20260420T130104
CREATED:20201128T005459Z
LAST-MODIFIED:20201128T005459Z
UID:1819-1619517600-1619535600@rewarewastation.co.nz
SUMMARY:April Craft Day
DESCRIPTION:Craft day \nbring your knitting\, crocheting\, spinning or come for a chat
URL:https://rewarewastation.co.nz/event/craft-day-april/
LOCATION:PolcDBorange1618-x-rotated-1.jpg
CATEGORIES:Craft Day
ATTACH;FMTTYPE=:
END:VEVENT
BEGIN:VEVENT
DTSTART;TZID=Pacific/Auckland:20210327T090000
DTEND;TZID=Pacific/Auckland:20210327T130000
DTSTAMP:20260420T130104
CREATED:20210308T020311Z
LAST-MODIFIED:20210308T020311Z
UID:2026-1616835600-1616850000@rewarewastation.co.nz
SUMMARY:Natural Fibre Market Masterton
DESCRIPTION:Rewa Rewa Station will be at the Natural Fibre Masterton from 9am to 1pm at Solway Showgrounds.
URL:https://rewarewastation.co.nz/event/natural-fibre-market-masterton/
CATEGORIES:Market
ATTACH;FMTTYPE=:
END:VEVENT
BEGIN:VEVENT
DTSTART;TZID=Pacific/Auckland:20210320T100000
DTEND;TZID=Pacific/Auckland:20210320T150000
DTSTAMP:20260420T130104
CREATED:20201128T005417Z
LAST-MODIFIED:20201128T005417Z
UID:1817-1616234400-1616252400@rewarewastation.co.nz
SUMMARY:March Craft Day
DESCRIPTION:Craft day \nbring your knitting\, crocheting\, spinning or come for a chat
URL:https://rewarewastation.co.nz/event/craft-day-march/
LOCATION:PolcDBorange1618-x-rotated-1.jpg
CATEGORIES:Craft Day
ATTACH;FMTTYPE=:
END:VEVENT
BEGIN:VEVENT
DTSTART;TZID=Pacific/Auckland:20210223T100000
DTEND;TZID=Pacific/Auckland:20210223T150000
DTSTAMP:20260420T130104
CREATED:20201128T005212Z
LAST-MODIFIED:20201128T005212Z
UID:1815-1614074400-1614092400@rewarewastation.co.nz
SUMMARY:February Craft Day
DESCRIPTION:Craft day \n(bring your knitting\, crocheting\, spinning or come for a chat)
URL:https://rewarewastation.co.nz/event/craft-day-february/
LOCATION:PolcDBorange1618-x-rotated-1.jpg
CATEGORIES:Craft Day
ATTACH;FMTTYPE=:
END:VEVENT
BEGIN:VEVENT
DTSTART;TZID=Pacific/Auckland:20210130T100000
DTEND;TZID=Pacific/Auckland:20210130T150000
DTSTAMP:20260420T130104
CREATED:20201128T005109Z
LAST-MODIFIED:20201128T005109Z
UID:1813-1612000800-1612018800@rewarewastation.co.nz
SUMMARY:January Craft Day
DESCRIPTION:Craft day \n(bring your knitting\, crocheting\, spinning or come for a chat)
URL:https://rewarewastation.co.nz/event/craft-day-january/
LOCATION:PolcDBorange1618-x-rotated-1.jpg
CATEGORIES:Craft Day
ATTACH;FMTTYPE=:
END:VEVENT
BEGIN:VEVENT
DTSTART;TZID=Pacific/Auckland:20210120T100000
DTEND;TZID=Pacific/Auckland:20210120T140000
DTSTAMP:20260420T130104
CREATED:20201216T024157Z
LAST-MODIFIED:20201216T024157Z
UID:1938-1611136800-1611151200@rewarewastation.co.nz
SUMMARY:Wairarapa Spinners and Weavers Garden Day
DESCRIPTION:
URL:https://rewarewastation.co.nz/event/wairarapa-spinners-and-weavers-garden-day/
LOCATION:PolcDBorange1618-x-rotated-1.jpg
CATEGORIES:Spinners and Weavers Guild
ATTACH;FMTTYPE=:
END:VEVENT
BEGIN:VEVENT
DTSTART;TZID=Pacific/Auckland:20201220T100000
DTEND;TZID=Pacific/Auckland:20201220T160000
DTSTAMP:20260420T130104
CREATED:20201127T025615Z
LAST-MODIFIED:20201127T025615Z
UID:2698-1608458400-1608480000@rewarewastation.co.nz
SUMMARY:Wellington Artisan Craft Market Makaro
DESCRIPTION:(Waterfront at Wharewaka) 10am to 4pm
URL:https://rewarewastation.co.nz/event/wellington-artisan-craft-market-makaro/
LOCATION:got-dg30-20-x-rotated-1.jpg
CATEGORIES:Market
ATTACH;FMTTYPE=:
END:VEVENT
BEGIN:VEVENT
DTSTART;TZID=Pacific/Auckland:20201212T110000
DTEND;TZID=Pacific/Auckland:20201212T140000
DTSTAMP:20260420T130104
CREATED:20201127T024807Z
LAST-MODIFIED:20201127T024807Z
UID:2697-1607770800-1607781600@rewarewastation.co.nz
SUMMARY:BCSBA Christmas Get Together
DESCRIPTION:[et_pb_section fb_built=”1″ _builder_version=”4.7.4″ _module_preset=”default”][/et_pb_section]
URL:https://rewarewastation.co.nz/event/bcsba-christmas-get-together/
LOCATION:PolcDBorange1618-x-rotated-1.jpg
CATEGORIES:BCSBA
ATTACH;FMTTYPE=:
END:VEVENT
BEGIN:VEVENT
DTSTART;TZID=Pacific/Auckland:20201129T080000
DTEND;TZID=Pacific/Auckland:20201129T170000
DTSTAMP:20260420T130104
CREATED:20201123T201722Z
LAST-MODIFIED:20201123T201722Z
UID:2696-1606636800-1606669200@rewarewastation.co.nz
SUMMARY:Country Calendar
DESCRIPTION:[et_pb_section admin_label=”section”]\n			[et_pb_row admin_label=”row”]\n				[et_pb_column type=”4_4″][et_pb_text admin_label=”Text”]View our show on the TV as it is aired.[/et_pb_text][/et_pb_column]\n			[/et_pb_row]\n		[/et_pb_section]
URL:https://rewarewastation.co.nz/event/country-calendar/
LOCATION:socks-3-rotated-1.jpg
CATEGORIES:Media Coverage
ATTACH;FMTTYPE=:
END:VEVENT
END:VCALENDAR