BEGIN:VCALENDAR
VERSION:2.0
PRODID:-//Rewa Rewa Station - ECPv6.15.18//NONSGML v1.0//EN
CALSCALE:GREGORIAN
METHOD:PUBLISH
X-WR-CALNAME:Rewa Rewa Station
X-ORIGINAL-URL:https://rewarewastation.co.nz
X-WR-CALDESC:Events for Rewa Rewa Station
REFRESH-INTERVAL;VALUE=DURATION:PT1H
X-Robots-Tag:noindex
X-PUBLISHED-TTL:PT1H
BEGIN:VTIMEZONE
TZID:Pacific/Auckland
BEGIN:STANDARD
TZOFFSETFROM:+1300
TZOFFSETTO:+1200
TZNAME:NZST
DTSTART:20250405T140000
END:STANDARD
BEGIN:DAYLIGHT
TZOFFSETFROM:+1200
TZOFFSETTO:+1300
TZNAME:NZDT
DTSTART:20250927T140000
END:DAYLIGHT
BEGIN:STANDARD
TZOFFSETFROM:+1300
TZOFFSETTO:+1200
TZNAME:NZST
DTSTART:20260404T140000
END:STANDARD
BEGIN:DAYLIGHT
TZOFFSETFROM:+1200
TZOFFSETTO:+1300
TZNAME:NZDT
DTSTART:20260926T140000
END:DAYLIGHT
BEGIN:STANDARD
TZOFFSETFROM:+1300
TZOFFSETTO:+1200
TZNAME:NZST
DTSTART:20270403T140000
END:STANDARD
BEGIN:DAYLIGHT
TZOFFSETFROM:+1200
TZOFFSETTO:+1300
TZNAME:NZDT
DTSTART:20270925T140000
END:DAYLIGHT
END:VTIMEZONE
BEGIN:VEVENT
DTSTART;TZID=Pacific/Auckland:20260725T100000
DTEND;TZID=Pacific/Auckland:20260725T160000
DTSTAMP:20260420T225040
CREATED:20240201T041504Z
LAST-MODIFIED:20260210T031554Z
UID:4407-1784973600-1784995200@rewarewastation.co.nz
SUMMARY:Fibretron Hamilton
DESCRIPTION:We are coming back to run a stall at Fibretron in Hamilton! \nPlease come visit us\, we would love to see both familiar and new faces! \nLocated in Tinui (Wairarapa) we produce Rewa Rewa Station MillSpun yarn\, and fibre goods in our on farm Fibre Shed. Using our Mini Mill we take fibre from our flock of coloured sheep (Corriedale x Romney\, Gotland & Polwarth) to create yarns & fibre for crafters.  Naturally dyed skeins\, hand knitted/crocheted woolly garments and double woven blankets designed by Patrizia (commercially made) are some of our creations! We also carry handspun and commercially spun yarn – which have all been spun from our Rewa Rewa Station fibre. \nDate: Saturday 26th July 2025\nTime: 10:00 a.m. to 4:00 p.m.\nVenue: Bledisloe Function Centre\, Gate 3\, Mystery Creek Road\, Hamilton 3283\nParking: Free onsite parking
URL:https://rewarewastation.co.nz/event/fibretron-hamilton/
LOCATION:Bledisloe Function Centre\, Gate 3\, Mystery Creek\, Hamilton\, New Zealand
CATEGORIES:Market
ATTACH;FMTTYPE=image/png:https://rewarewastation.co.nz/wp-content/uploads/2024/02/Fibretron-2026.png
END:VEVENT
END:VCALENDAR