BEGIN:VCALENDAR
VERSION:2.0
PRODID:-//Rewa Rewa Station - ECPv6.15.20//NONSGML v1.0//EN
CALSCALE:GREGORIAN
METHOD:PUBLISH
X-WR-CALNAME:Rewa Rewa Station
X-ORIGINAL-URL:https://rewarewastation.co.nz
X-WR-CALDESC:Events for Rewa Rewa Station
REFRESH-INTERVAL;VALUE=DURATION:PT1H
X-Robots-Tag:noindex
X-PUBLISHED-TTL:PT1H
BEGIN:VTIMEZONE
TZID:Pacific/Auckland
BEGIN:STANDARD
TZOFFSETFROM:+1300
TZOFFSETTO:+1200
TZNAME:NZST
DTSTART:20200404T140000
END:STANDARD
BEGIN:DAYLIGHT
TZOFFSETFROM:+1200
TZOFFSETTO:+1300
TZNAME:NZDT
DTSTART:20200926T140000
END:DAYLIGHT
BEGIN:STANDARD
TZOFFSETFROM:+1300
TZOFFSETTO:+1200
TZNAME:NZST
DTSTART:20210403T140000
END:STANDARD
BEGIN:DAYLIGHT
TZOFFSETFROM:+1200
TZOFFSETTO:+1300
TZNAME:NZDT
DTSTART:20210925T140000
END:DAYLIGHT
BEGIN:STANDARD
TZOFFSETFROM:+1300
TZOFFSETTO:+1200
TZNAME:NZST
DTSTART:20220402T140000
END:STANDARD
BEGIN:DAYLIGHT
TZOFFSETFROM:+1200
TZOFFSETTO:+1300
TZNAME:NZDT
DTSTART:20220924T140000
END:DAYLIGHT
END:VTIMEZONE
BEGIN:VEVENT
DTSTART;TZID=Pacific/Auckland:20211120T100000
DTEND;TZID=Pacific/Auckland:20211120T150000
DTSTAMP:20260426T163156
CREATED:20210802T223613Z
LAST-MODIFIED:20210802T223613Z
UID:2180-1637402400-1637420400@rewarewastation.co.nz
SUMMARY:November Craft Day
DESCRIPTION:Craft day \nBring your knitting\, crocheting\, spinning or come for a chat.\nCoffee tea and cakes provided\, but bring your lunch and stay awhile.\nWool\, crafts and honey available for sale (cash or credit card).\nFree entry\, everyone is welcome.
URL:https://rewarewastation.co.nz/event/november-craft-day-2/
LOCATION:PolcDBorange1618-x-rotated-1.jpg
CATEGORIES:Craft Day
ATTACH;FMTTYPE=:
END:VEVENT
END:VCALENDAR